BEGIN:VCALENDAR
VERSION:2.0
PRODID:-//West Point Grey 联合教会 - ECPv6.3.7//NONSGML v1.0//EN
CALSCALE:GREGORIAN
METHOD:PUBLISH
X-WR-CALNAME:West Point Grey 联合教会
X-ORIGINAL-URL:https://mandarin.wpguc.com
X-WR-CALDESC:Events for West Point Grey 联合教会
REFRESH-INTERVAL;VALUE=DURATION:PT1H
X-Robots-Tag:noindex
X-PUBLISHED-TTL:PT1H
BEGIN:VTIMEZONE
TZID:America/Vancouver
BEGIN:DAYLIGHT
TZOFFSETFROM:-0800
TZOFFSETTO:-0700
TZNAME:PDT
DTSTART:20260308T100000
END:DAYLIGHT
BEGIN:STANDARD
TZOFFSETFROM:-0700
TZOFFSETTO:-0800
TZNAME:PST
DTSTART:20261101T090000
END:STANDARD
END:VTIMEZONE
BEGIN:VEVENT
DTSTART;TZID=America/Vancouver:20260426T120000
DTEND;TZID=America/Vancouver:20260426T133000
DTSTAMP:20260425T090825
CREATED:20260423T193804Z
LAST-MODIFIED:20260423T193804Z
UID:1584-1777204800-1777210200@mandarin.wpguc.com
SUMMARY:跨文化青年团契
DESCRIPTION:跨文化青年团契 \n3月29日，我们将聚集进行本学期第二阶段的最后一次青年团契，同时这也是Grets带领小组的最后一次机会。 \n此次聚会将以共享餐（potluck）的形式进行。 \n在共进晚餐之前，Grets将分享他在三月份于德国参加国际跨文化聚会的心得与反思。 \n诚邀您一同参加这段充满意义的相聚时光。
URL:https://mandarin.wpguc.com/event/%e8%b7%a8%e6%96%87%e5%8c%96%e9%9d%92%e5%b9%b4%e5%9b%a2%e5%a5%91/
ATTACH;FMTTYPE=image/png:https://mandarin.wpguc.com/wp-content/uploads/2026/01/Screenshot-2026-01-24-at-6.00.53 PM.png
END:VEVENT
END:VCALENDAR